BEGIN:VCALENDAR
VERSION:2.0
PRODID:-//ExpressionEngine Easy iCalendar plugin//NONSGML v2.0.1//EN
X-WR-TIMEZONE:America/New_York
X-WR-CALNAME:Upcoming Auctions
BEGIN:VEVENT
UID:46433
DTSTAMP:20200923T080000
DTSTART:20200923T080000
DTEND:20200923T190000
SUMMARY:COMING SOON: Part II\, The Life Collection of Mark Talisman\, 
 US Holocaust Museum Founder
LOCATION:River Rd\, Bethesda\, MD 20816\, US
DESCRIPTION:Due to COVID-19 the auction has been delayed. Please registe
 r in order to receive notifications once the catalog has bee
 n finalized. Thank you! COMING SOON: Part II\, The Life Colle
 ction of Mark Talisman\, US Holocaust Museum Founder. NEW ITE
 MS ARE BEING CATALOGED! Collection Features: Judaica Treas
 ures\, Word War I and World War II Memorabilia\, Propaganda\, A
 rt\, Russian Collectibles\, Cartography\, Ephemera\, Objects D' 
 Art\, and so much more. Call 703.889.8949 for details & info.
URL:https://www.primeauctionsolutions.com/auctions/detail/part-i
 i-the-life-collection-of-mark-talisman-us-holocaust-mu-bw464
 33
SEQUENCE:1
END:VEVENT
END:VCALENDAR